BEGIN:VCALENDAR
VERSION:2.0
PRODID:-//Dalmatian Club of America - ECPv6.15.20//NONSGML v1.0//EN
CALSCALE:GREGORIAN
METHOD:PUBLISH
X-ORIGINAL-URL:https://dalmatianclubofamerica.org
X-WR-CALDESC:Events for Dalmatian Club of America
REFRESH-INTERVAL;VALUE=DURATION:PT1H
X-Robots-Tag:noindex
X-PUBLISHED-TTL:PT1H
BEGIN:VTIMEZONE
TZID:America/Los_Angeles
BEGIN:DAYLIGHT
TZOFFSETFROM:-0800
TZOFFSETTO:-0700
TZNAME:PDT
DTSTART:20230312T100000
END:DAYLIGHT
BEGIN:STANDARD
TZOFFSETFROM:-0700
TZOFFSETTO:-0800
TZNAME:PST
DTSTART:20231105T090000
END:STANDARD
BEGIN:DAYLIGHT
TZOFFSETFROM:-0800
TZOFFSETTO:-0700
TZNAME:PDT
DTSTART:20240310T100000
END:DAYLIGHT
BEGIN:STANDARD
TZOFFSETFROM:-0700
TZOFFSETTO:-0800
TZNAME:PST
DTSTART:20241103T090000
END:STANDARD
BEGIN:DAYLIGHT
TZOFFSETFROM:-0800
TZOFFSETTO:-0700
TZNAME:PDT
DTSTART:20250309T100000
END:DAYLIGHT
BEGIN:STANDARD
TZOFFSETFROM:-0700
TZOFFSETTO:-0800
TZNAME:PST
DTSTART:20251102T090000
END:STANDARD
END:VTIMEZONE
BEGIN:VEVENT
DTSTART;TZID=America/Los_Angeles:20240504T080000
DTEND;TZID=America/Los_Angeles:20240504T170000
DTSTAMP:20260425T051103
CREATED:20240306T044615Z
LAST-MODIFIED:20240306T044615Z
UID:58810-1714809600-1714842000@dalmatianclubofamerica.org
SUMMARY:Board of Governors Meeting 5/4/24
DESCRIPTION:The Dalmatian Club of America 2024 Second Quarter Meeting of the Board of Governors will be conducted via Zoom on May 4\, 2024.  To be considered for membership all completed new member applications and payments must be received by DCA Member Chair\, Kris Benoit no later than Saturday\, April 6\, 2024.
URL:https://dalmatianclubofamerica.org/event/board-of-governors-meeting-5-4-24/
LOCATION:Chicago\, Illinois\, Chicago\, Illinois
END:VEVENT
END:VCALENDAR