BEGIN:VCALENDAR
VERSION:2.0
PRODID:-//Dalmatian Club of America - ECPv6.15.20//NONSGML v1.0//EN
CALSCALE:GREGORIAN
METHOD:PUBLISH
X-WR-CALNAME:Dalmatian Club of America
X-ORIGINAL-URL:https://dalmatianclubofamerica.org
X-WR-CALDESC:Events for Dalmatian Club of America
REFRESH-INTERVAL;VALUE=DURATION:PT1H
X-Robots-Tag:noindex
X-PUBLISHED-TTL:PT1H
BEGIN:VTIMEZONE
TZID:America/New_York
BEGIN:DAYLIGHT
TZOFFSETFROM:-0500
TZOFFSETTO:-0400
TZNAME:EDT
DTSTART:20180311T070000
END:DAYLIGHT
BEGIN:STANDARD
TZOFFSETFROM:-0400
TZOFFSETTO:-0500
TZNAME:EST
DTSTART:20181104T060000
END:STANDARD
BEGIN:DAYLIGHT
TZOFFSETFROM:-0500
TZOFFSETTO:-0400
TZNAME:EDT
DTSTART:20190310T070000
END:DAYLIGHT
BEGIN:STANDARD
TZOFFSETFROM:-0400
TZOFFSETTO:-0500
TZNAME:EST
DTSTART:20191103T060000
END:STANDARD
BEGIN:DAYLIGHT
TZOFFSETFROM:-0500
TZOFFSETTO:-0400
TZNAME:EDT
DTSTART:20200308T070000
END:DAYLIGHT
BEGIN:STANDARD
TZOFFSETFROM:-0400
TZOFFSETTO:-0500
TZNAME:EST
DTSTART:20201101T060000
END:STANDARD
END:VTIMEZONE
BEGIN:VEVENT
DTSTART;TZID=America/New_York:20191227T080000
DTEND;TZID=America/New_York:20191229T170000
DTSTAMP:20260423T224009
CREATED:20190823T212054Z
LAST-MODIFIED:20190823T212054Z
UID:21063-1577433600-1577638800@dalmatianclubofamerica.org
SUMMARY:Greater Pittsburgh Dalmatian Club Agility Trials
DESCRIPTION:Dec 27-28-29\, 2019 – *NEW* – GPDC AKC Agility Trials – being held at Countryside Agility\, Erie\, PA
URL:https://dalmatianclubofamerica.org/event/greater-pittsburgh-dalmatian-club-agility-trials/
LOCATION:Countryside Agility\, 2321 West 38th Street\, eire\, PA\, 16506\, United States
CATEGORIES:Agility Trial
END:VEVENT
END:VCALENDAR