BEGIN:VCALENDAR
VERSION:2.0
PRODID:-//Dalmatian Club of America - ECPv6.15.20//NONSGML v1.0//EN
CALSCALE:GREGORIAN
METHOD:PUBLISH
X-ORIGINAL-URL:https://dalmatianclubofamerica.org
X-WR-CALDESC:Events for Dalmatian Club of America
REFRESH-INTERVAL;VALUE=DURATION:PT1H
X-Robots-Tag:noindex
X-PUBLISHED-TTL:PT1H
BEGIN:VTIMEZONE
TZID:America/Los_Angeles
BEGIN:DAYLIGHT
TZOFFSETFROM:-0800
TZOFFSETTO:-0700
TZNAME:PDT
DTSTART:20230312T100000
END:DAYLIGHT
BEGIN:STANDARD
TZOFFSETFROM:-0700
TZOFFSETTO:-0800
TZNAME:PST
DTSTART:20231105T090000
END:STANDARD
BEGIN:DAYLIGHT
TZOFFSETFROM:-0800
TZOFFSETTO:-0700
TZNAME:PDT
DTSTART:20240310T100000
END:DAYLIGHT
BEGIN:STANDARD
TZOFFSETFROM:-0700
TZOFFSETTO:-0800
TZNAME:PST
DTSTART:20241103T090000
END:STANDARD
BEGIN:DAYLIGHT
TZOFFSETFROM:-0800
TZOFFSETTO:-0700
TZNAME:PDT
DTSTART:20250309T100000
END:DAYLIGHT
BEGIN:STANDARD
TZOFFSETFROM:-0700
TZOFFSETTO:-0800
TZNAME:PST
DTSTART:20251102T090000
END:STANDARD
END:VTIMEZONE
BEGIN:VTIMEZONE
TZID:America/New_York
BEGIN:DAYLIGHT
TZOFFSETFROM:-0500
TZOFFSETTO:-0400
TZNAME:EDT
DTSTART:20180311T070000
END:DAYLIGHT
BEGIN:STANDARD
TZOFFSETFROM:-0400
TZOFFSETTO:-0500
TZNAME:EST
DTSTART:20181104T060000
END:STANDARD
BEGIN:DAYLIGHT
TZOFFSETFROM:-0500
TZOFFSETTO:-0400
TZNAME:EDT
DTSTART:20190310T070000
END:DAYLIGHT
BEGIN:STANDARD
TZOFFSETFROM:-0400
TZOFFSETTO:-0500
TZNAME:EST
DTSTART:20191103T060000
END:STANDARD
BEGIN:DAYLIGHT
TZOFFSETFROM:-0500
TZOFFSETTO:-0400
TZNAME:EDT
DTSTART:20200308T070000
END:DAYLIGHT
BEGIN:STANDARD
TZOFFSETFROM:-0400
TZOFFSETTO:-0500
TZNAME:EST
DTSTART:20201101T060000
END:STANDARD
END:VTIMEZONE
BEGIN:VEVENT
DTSTART;TZID=America/Los_Angeles:20240524T080000
DTEND;TZID=America/Los_Angeles:20240526T170000
DTSTAMP:20260423T131904
CREATED:20240416T154846Z
LAST-MODIFIED:20240416T154846Z
UID:59875-1716537600-1716742800@dalmatianclubofamerica.org
SUMMARY:Greater Pittsburgh Dal Club All-breed Coursing Ability Trials
DESCRIPTION:Greater Pittsburgh Samoyed Club & Greater Pittsburgh Dalmatian Club’s All Breed Coursing Ability Trials\nWhen: Friday\, May 24\, Saturday\, May 25 and Sunday\, May 26\, 2024 \nWhere: Lawrence County Fairgrounds\, New Castle \, PA – same weekend as the Memorial Day conformation shows! \nFor more information\, to download the premium AND sign up ONLINE\, go to https://thegpdc.com/coursing-ability-tests/ \nQuestions? Please contact Field Trial Secretary (FTS) Chris Aranowski at soulrydedals@gmail.com (in the premium).
URL:https://dalmatianclubofamerica.org/event/greater-pittsburgh-all-breed-coursing-ability-trials/
CATEGORIES:Coursing Ability Test (CAT)
END:VEVENT
BEGIN:VEVENT
DTSTART;VALUE=DATE:20191018
DTEND;VALUE=DATE:20191021
DTSTAMP:20260423T131904
CREATED:20190823T212149Z
LAST-MODIFIED:20190823T212149Z
UID:21047-1571356800-1571615999@dalmatianclubofamerica.org
SUMMARY:Greater Pittsburgh Dalmatian Club Coursing Ability Test (CAT)
DESCRIPTION:Greater Pittsburgh Dalmatian Club Coursing Ability Test (AKC CAT)\n2 days – 2 CAT Trials each day – 6 trials for the weekend\nOctober 18\, 19 and 20\, 2019! \nSHOW SITE: FISCHER’S PINE LAKE PARK\, 3796 MAPLE ROAD\, JEFFERSON\, OH 44047 (same place as our specialty) \nYou can find out more information on our website or to download premium and entry forms: www.PittsburghDalClub.com or our Facebook page: https://www.facebook.com/GreaterPittsburghDalmatianClub/
URL:https://dalmatianclubofamerica.org/event/greater-pittsburgh-dalmatian-club-coursing-ability-test-cat/
LOCATION:Fischers Pine Lake Park\, 400 Sawmill Creek Dr\, Jefferson\, OH\, 44839\, United States
CATEGORIES:Coursing Ability Test (CAT)
END:VEVENT
END:VCALENDAR