BEGIN:VCALENDAR
VERSION:2.0
PRODID:-//Dalmatian Club of America - ECPv6.15.20//NONSGML v1.0//EN
CALSCALE:GREGORIAN
METHOD:PUBLISH
X-WR-CALNAME:Dalmatian Club of America
X-ORIGINAL-URL:https://dalmatianclubofamerica.org
X-WR-CALDESC:Events for Dalmatian Club of America
REFRESH-INTERVAL;VALUE=DURATION:PT1H
X-Robots-Tag:noindex
X-PUBLISHED-TTL:PT1H
BEGIN:VTIMEZONE
TZID:America/New_York
BEGIN:DAYLIGHT
TZOFFSETFROM:-0500
TZOFFSETTO:-0400
TZNAME:EDT
DTSTART:20220313T070000
END:DAYLIGHT
BEGIN:STANDARD
TZOFFSETFROM:-0400
TZOFFSETTO:-0500
TZNAME:EST
DTSTART:20221106T060000
END:STANDARD
BEGIN:DAYLIGHT
TZOFFSETFROM:-0500
TZOFFSETTO:-0400
TZNAME:EDT
DTSTART:20230312T070000
END:DAYLIGHT
BEGIN:STANDARD
TZOFFSETFROM:-0400
TZOFFSETTO:-0500
TZNAME:EST
DTSTART:20231105T060000
END:STANDARD
BEGIN:DAYLIGHT
TZOFFSETFROM:-0500
TZOFFSETTO:-0400
TZNAME:EDT
DTSTART:20240310T070000
END:DAYLIGHT
BEGIN:STANDARD
TZOFFSETFROM:-0400
TZOFFSETTO:-0500
TZNAME:EST
DTSTART:20241103T060000
END:STANDARD
END:VTIMEZONE
BEGIN:VEVENT
DTSTART;VALUE=DATE:20230901
DTEND;VALUE=DATE:20230905
DTSTAMP:20260425T201209
CREATED:20230809T223033Z
LAST-MODIFIED:20230809T223308Z
UID:55625-1693526400-1693871999@dalmatianclubofamerica.org
SUMMARY:Greater Twin Cities Dalmatian Club - 2023
DESCRIPTION:Save the date for the Greater Twin Cities Dalmatian Club Specialties 9/1-9/4 at the Amana RV Park & Event Center in Amana\, Iowa. 6 chances at majors over 4 days. 2 specialties and 4 all breed shows with supported entries. We are back inside the air condioned building this year! We added Junior Showmanship and Best Veteran to both specialties. We have requested a late afternoon/early evening specialty time for Friday to allow more travel time. We are upgrading our rosettes and have great trophies! The club hosts a potluck picnic with raffle and silent auction on Saturday. \nThe cluster is offering National Owner Handler Series all 4 days\, 4-6 Month Puppy on Saturday and Sunday\, Best Bred By on Saturday\, Best Puppy on Sunday\, and Best Veteran on Monday. \n\nObedience and Rally are back this year and there will be a trophy for the highest scoring Dalmatian in obedience. \n\nFast CAT is most likely going to be hosted by the local Schipperke club on Thursday and Friday. We will have prizes for the slowest and the fast running Dalmatian. \n\nMake your RV reservations online now through the Amana Colonies RV Park & Event Center. There is a discount if you say you are with the dog show. \n\nJudges:\nFriday Specialty – Sandy Gelinas\nSaturday Puppy and Veteran Sweeps – Mrs. Dayl Phillip\nSaturday Specialty – Cathy Eke \n\nAll Breed Judges:\nFriday – David J Kirkland\nSaturday- Victoria M Jordan\nSunday – Michael Gelinas\nMonday – Steve Hayden \n\nSuperintendent: Foy Trent
URL:https://dalmatianclubofamerica.org/event/greater-twin-cities-dalmatian-club-2023/
LOCATION:Amana Colonies Convention Ctr & RV Park City\, 3890 C St\, Amana\, IA\, 52203\, United States
CATEGORIES:Regional Specialty
END:VEVENT
END:VCALENDAR