BEGIN:VCALENDAR
VERSION:2.0
PRODID:-//Dalmatian Club of America - ECPv6.15.20//NONSGML v1.0//EN
CALSCALE:GREGORIAN
METHOD:PUBLISH
X-ORIGINAL-URL:https://dalmatianclubofamerica.org
X-WR-CALDESC:Events for Dalmatian Club of America
REFRESH-INTERVAL;VALUE=DURATION:PT1H
X-Robots-Tag:noindex
X-PUBLISHED-TTL:PT1H
BEGIN:VTIMEZONE
TZID:America/Los_Angeles
BEGIN:DAYLIGHT
TZOFFSETFROM:-0800
TZOFFSETTO:-0700
TZNAME:PDT
DTSTART:20220313T100000
END:DAYLIGHT
BEGIN:STANDARD
TZOFFSETFROM:-0700
TZOFFSETTO:-0800
TZNAME:PST
DTSTART:20221106T090000
END:STANDARD
BEGIN:DAYLIGHT
TZOFFSETFROM:-0800
TZOFFSETTO:-0700
TZNAME:PDT
DTSTART:20230312T100000
END:DAYLIGHT
BEGIN:STANDARD
TZOFFSETFROM:-0700
TZOFFSETTO:-0800
TZNAME:PST
DTSTART:20231105T090000
END:STANDARD
BEGIN:DAYLIGHT
TZOFFSETFROM:-0800
TZOFFSETTO:-0700
TZNAME:PDT
DTSTART:20240310T100000
END:DAYLIGHT
BEGIN:STANDARD
TZOFFSETFROM:-0700
TZOFFSETTO:-0800
TZNAME:PST
DTSTART:20241103T090000
END:STANDARD
END:VTIMEZONE
BEGIN:VEVENT
DTSTART;TZID=America/Los_Angeles:20231013T080000
DTEND;TZID=America/Los_Angeles:20231014T170000
DTSTAMP:20260423T224647
CREATED:20230907T161154Z
LAST-MODIFIED:20230907T171600Z
UID:56493-1697184000-1697302800@dalmatianclubofamerica.org
SUMMARY:Joker's Wild NY Road Trial
DESCRIPTION:Dalmatian Club of America sanctioned Road Trial\nDate: Oct. 13 & 14\, 2023\nFriday\, Oct 13 is the meet up day. Competition is on Saturday\, Oct 14.\nLocation: Joker’s Wild Equestrian Center\, Port Crane\, NY.\nContact person: Lorie McCrone
URL:https://dalmatianclubofamerica.org/event/jokers-wild-ny-road-trial/
LOCATION:Joker’s Wild EquestrianCenter\, 648 Pleasant Hill Rd\, Port Crane\, NY\, 13833
CATEGORIES:Road Trial
ORGANIZER;CN="Lorie McCrone":MAILTO:jmccrone@stny.rr.com
END:VEVENT
BEGIN:VEVENT
DTSTART;TZID=America/Los_Angeles:20231013T080000
DTEND;TZID=America/Los_Angeles:20231014T170000
DTSTAMP:20260423T224647
CREATED:20230816T160537Z
LAST-MODIFIED:20230817T135553Z
UID:55905-1697184000-1697302800@dalmatianclubofamerica.org
SUMMARY:Central Carolina Dalmatian Club Road Trial
DESCRIPTION:Dalmatian Club of America sanctioned Road Trial\nHost club: Central Carolina Dalmatian Club\nDate: Oct. 13 & 14\, 2023\nLocation: H. Cooper Black State Park\, Cheraw\, SC\nContact person: Amanda Gill; kirchmaj@gmail.com \nClick here for Premium
URL:https://dalmatianclubofamerica.org/event/central-carolina-dalmatian-club-road-trial/
LOCATION:H Cooper Black State Park\, Cheraw\, SC\, Cheraw\, South Carolina
CATEGORIES:Road Trial
ORGANIZER;CN="CCDC":MAILTO:kirchmaj@gmail.com
END:VEVENT
END:VCALENDAR