BEGIN:VCALENDAR
VERSION:2.0
PRODID:-//Dalmatian Club of America - ECPv6.15.20//NONSGML v1.0//EN
CALSCALE:GREGORIAN
METHOD:PUBLISH
X-ORIGINAL-URL:https://dalmatianclubofamerica.org
X-WR-CALDESC:Events for Dalmatian Club of America
REFRESH-INTERVAL;VALUE=DURATION:PT1H
X-Robots-Tag:noindex
X-PUBLISHED-TTL:PT1H
BEGIN:VTIMEZONE
TZID:America/Los_Angeles
BEGIN:DAYLIGHT
TZOFFSETFROM:-0800
TZOFFSETTO:-0700
TZNAME:PDT
DTSTART:20250309T100000
END:DAYLIGHT
BEGIN:STANDARD
TZOFFSETFROM:-0700
TZOFFSETTO:-0800
TZNAME:PST
DTSTART:20251102T090000
END:STANDARD
BEGIN:DAYLIGHT
TZOFFSETFROM:-0800
TZOFFSETTO:-0700
TZNAME:PDT
DTSTART:20260308T100000
END:DAYLIGHT
BEGIN:STANDARD
TZOFFSETFROM:-0700
TZOFFSETTO:-0800
TZNAME:PST
DTSTART:20261101T090000
END:STANDARD
BEGIN:DAYLIGHT
TZOFFSETFROM:-0800
TZOFFSETTO:-0700
TZNAME:PDT
DTSTART:20270314T100000
END:DAYLIGHT
BEGIN:STANDARD
TZOFFSETFROM:-0700
TZOFFSETTO:-0800
TZNAME:PST
DTSTART:20271107T090000
END:STANDARD
END:VTIMEZONE
BEGIN:VTIMEZONE
TZID:America/New_York
BEGIN:DAYLIGHT
TZOFFSETFROM:-0500
TZOFFSETTO:-0400
TZNAME:EDT
DTSTART:20250309T070000
END:DAYLIGHT
BEGIN:STANDARD
TZOFFSETFROM:-0400
TZOFFSETTO:-0500
TZNAME:EST
DTSTART:20251102T060000
END:STANDARD
BEGIN:DAYLIGHT
TZOFFSETFROM:-0500
TZOFFSETTO:-0400
TZNAME:EDT
DTSTART:20260308T070000
END:DAYLIGHT
BEGIN:STANDARD
TZOFFSETFROM:-0400
TZOFFSETTO:-0500
TZNAME:EST
DTSTART:20261101T060000
END:STANDARD
BEGIN:DAYLIGHT
TZOFFSETFROM:-0500
TZOFFSETTO:-0400
TZNAME:EDT
DTSTART:20270314T070000
END:DAYLIGHT
BEGIN:STANDARD
TZOFFSETFROM:-0400
TZOFFSETTO:-0500
TZNAME:EST
DTSTART:20271107T060000
END:STANDARD
END:VTIMEZONE
BEGIN:VEVENT
DTSTART;TZID=America/Los_Angeles:20260130T080000
DTEND;TZID=America/Los_Angeles:20260131T170000
DTSTAMP:20260423T163342
CREATED:20250806T153725Z
LAST-MODIFIED:20250806T153725Z
UID:67115-1769760000-1769878800@dalmatianclubofamerica.org
SUMMARY:Dalmatian Club of Greater Indianapolis - Jan 30 & 31\, 2026
DESCRIPTION:The Dalmatian Club of Greater Indianapolis\nIndianapolis\, IN\nFriday\, January 30\, 2026\nConformation Judge:  Lew Olson\nSweeps Judge:  Bonnie Money \nSaturday\, January 31\, 2026\nConformation Judge:  Patti Neale\nSweeps Judge:  David Johnson
URL:https://dalmatianclubofamerica.org/event/dalmatian-club-of-greater-indianapolis-jan-30-31-2026/
LOCATION:Indianapolis\, IN
END:VEVENT
BEGIN:VEVENT
DTSTART;TZID=America/Los_Angeles:20260214T233000
DTEND;TZID=America/Los_Angeles:20260214T233000
DTSTAMP:20260423T163342
CREATED:20260126T040221Z
LAST-MODIFIED:20260126T040433Z
UID:71052-1771111800-1771111800@dalmatianclubofamerica.org
SUMMARY:Q1 2026 Membership Application Deadline
DESCRIPTION:
URL:https://dalmatianclubofamerica.org/event/q1-2026-membership-application-deadline/
LOCATION:SC
END:VEVENT
BEGIN:VEVENT
DTSTART;TZID=America/Los_Angeles:20260314T080000
DTEND;TZID=America/Los_Angeles:20260314T180000
DTSTAMP:20260423T163342
CREATED:20260126T150051Z
LAST-MODIFIED:20260218T014307Z
UID:71049-1773475200-1773511200@dalmatianclubofamerica.org
SUMMARY:Q1 2026 Board of Governors Meeting
DESCRIPTION:
URL:https://dalmatianclubofamerica.org/event/q1-2026-board-of-governors-meeting/
LOCATION:Zoom meeting
END:VEVENT
BEGIN:VEVENT
DTSTART;TZID=America/New_York:20260315T070000
DTEND;TZID=America/New_York:20260315T170000
DTSTAMP:20260423T163342
CREATED:20260212T143734Z
LAST-MODIFIED:20260212T144206Z
UID:72049-1773558000-1773594000@dalmatianclubofamerica.org
SUMMARY:Central Carolina Dalmatian Club Dalmatian Road Trial "Coach and Bridle Classic"
DESCRIPTION:ENTRIES CLOSE AT NOON on Tuesday\, March 3rd at the Secretary’s Office. \nAll judging will take place on Sunday March 15th. \nMAIL ENTRIES with fees payable to the Central Carolina Dalmatian Club to Abbey Rodriguez\, 7247 Jackson Morgan Lane\, Powell\, TN 37849 Express mail entries must include signature permitting them to be left at the Secretary’s address without the recipient’s signature IMPORTANT: Read instructions carefully on reverse side before\ncompleting. Please Print. \nEntries will not be limited. \nHORSE RENTAL/BOARDING INFORMATION\nCarriage competitors that want to use a cart must provide their own cart and horse. A CART WILL BE AVAILABLE FOR RENTAL FOR THE CCC.\nThe horse wrangler for this event is Meagan Tahiri 843-467-6329. The deadline for horse rental is at Noon\, March 3rd. Competitors are responsible for contacting Ms. Tahiri to personally discuss their riding experience and reserve their horse with her. Payment should be made directly to Ms Tahiri\, Wendy Deini-Pruden and or your Carriage Driver.\nRiders will be highly encouraged to pair up for the trail portion of the competition for safety reasons.\nHorse rental for RD/RDC ‐ 12 1/2 miles ‐ $200.\nHorse rental for RDX/RDXC ‐ 25 miles\, 2 horses ‐ $400.\nHorse rental for CCN/CCNC & CCI/CCIC $150.\nCarriage Rental for CC/CCC – $50 per entry paid directly to Michael Pontz at the trial. \nEntries will be accepted via mail only; on-line payment is not available. \nCLASSES OFFERED: RDX/RDXC\, RD/RDC\, CCI/CCIC\, CCN/CCNC\, CC/CCC \nNon Regular Classes to be offered (all breed) for each class if entry limits. DCA does not offer titles or certificates to non-Dalmatians. Any awards or recognition to non-Dalmatians at these trials will be offered by Central Carolina Dalmatian Club\, and not by DCA. \nFor the premium click here.
URL:https://dalmatianclubofamerica.org/event/central-carolina-dalmatian-club-dalmatian-road-trial/
LOCATION:H Cooper Black Jr. Memorial Field Trial & Recreation Area\, 279 Sporting Dog Trail\, Cheraw\,\, SC\, 29520\, United States
ORGANIZER;CN="Donna Truitt%2C":MAILTO:pianofunforall@gmail.com
END:VEVENT
END:VCALENDAR