BEGIN:VCALENDAR
VERSION:2.0
PRODID:-//Dalmatian Club of America - ECPv6.15.20//NONSGML v1.0//EN
CALSCALE:GREGORIAN
METHOD:PUBLISH
X-ORIGINAL-URL:https://dalmatianclubofamerica.org
X-WR-CALDESC:Events for Dalmatian Club of America
REFRESH-INTERVAL;VALUE=DURATION:PT1H
X-Robots-Tag:noindex
X-PUBLISHED-TTL:PT1H
BEGIN:VTIMEZONE
TZID:America/New_York
BEGIN:DAYLIGHT
TZOFFSETFROM:-0500
TZOFFSETTO:-0400
TZNAME:EDT
DTSTART:20180311T070000
END:DAYLIGHT
BEGIN:STANDARD
TZOFFSETFROM:-0400
TZOFFSETTO:-0500
TZNAME:EST
DTSTART:20181104T060000
END:STANDARD
BEGIN:DAYLIGHT
TZOFFSETFROM:-0500
TZOFFSETTO:-0400
TZNAME:EDT
DTSTART:20190310T070000
END:DAYLIGHT
BEGIN:STANDARD
TZOFFSETFROM:-0400
TZOFFSETTO:-0500
TZNAME:EST
DTSTART:20191103T060000
END:STANDARD
BEGIN:DAYLIGHT
TZOFFSETFROM:-0500
TZOFFSETTO:-0400
TZNAME:EDT
DTSTART:20200308T070000
END:DAYLIGHT
BEGIN:STANDARD
TZOFFSETFROM:-0400
TZOFFSETTO:-0500
TZNAME:EST
DTSTART:20201101T060000
END:STANDARD
BEGIN:DAYLIGHT
TZOFFSETFROM:-0500
TZOFFSETTO:-0400
TZNAME:EDT
DTSTART:20210314T070000
END:DAYLIGHT
BEGIN:STANDARD
TZOFFSETFROM:-0400
TZOFFSETTO:-0500
TZNAME:EST
DTSTART:20211107T060000
END:STANDARD
END:VTIMEZONE
BEGIN:VTIMEZONE
TZID:America/Chicago
BEGIN:DAYLIGHT
TZOFFSETFROM:-0600
TZOFFSETTO:-0500
TZNAME:CDT
DTSTART:20190310T080000
END:DAYLIGHT
BEGIN:STANDARD
TZOFFSETFROM:-0500
TZOFFSETTO:-0600
TZNAME:CST
DTSTART:20191103T070000
END:STANDARD
BEGIN:DAYLIGHT
TZOFFSETFROM:-0600
TZOFFSETTO:-0500
TZNAME:CDT
DTSTART:20200308T080000
END:DAYLIGHT
BEGIN:STANDARD
TZOFFSETFROM:-0500
TZOFFSETTO:-0600
TZNAME:CST
DTSTART:20201101T070000
END:STANDARD
BEGIN:DAYLIGHT
TZOFFSETFROM:-0600
TZOFFSETTO:-0500
TZNAME:CDT
DTSTART:20210314T080000
END:DAYLIGHT
BEGIN:STANDARD
TZOFFSETFROM:-0500
TZOFFSETTO:-0600
TZNAME:CST
DTSTART:20211107T070000
END:STANDARD
END:VTIMEZONE
BEGIN:VEVENT
DTSTART;VALUE=DATE:20200703
DTEND;VALUE=DATE:20200704
DTSTAMP:20260424T063712
CREATED:20200303T193139Z
LAST-MODIFIED:20200515T011714Z
UID:36917-1593734400-1593820799@dalmatianclubofamerica.org
SUMMARY:Puget Sound Dalmatian Club - Cancelled
DESCRIPTION:Morning and afternoon specialties. \nJudges:\nPuppy and Veteran Sweeps – Jeanell Rasmussen and Laura Reeves \nConformation – Sharon Dykes and James Ham
URL:https://dalmatianclubofamerica.org/event/puget-sound-dalmatian-club-2/
LOCATION:Puyallup\, WA
END:VEVENT
BEGIN:VEVENT
DTSTART;VALUE=DATE:20200619
DTEND;VALUE=DATE:20200620
DTSTAMP:20260424T063712
CREATED:20200303T192302Z
LAST-MODIFIED:20200515T011629Z
UID:36910-1592524800-1592611199@dalmatianclubofamerica.org
SUMMARY:Greater Pittsburgh Dalmatian Club - Cancelled
DESCRIPTION:Morning and afternoon specialties\, plus sweepstakes.
URL:https://dalmatianclubofamerica.org/event/greater-pittsburgh-dalmatian-club/
LOCATION:Fischers Pine Lake Park\, 3796 Maple Rd\, Jefferson\, OH
END:VEVENT
BEGIN:VEVENT
DTSTART;VALUE=DATE:20200619
DTEND;VALUE=DATE:20200620
DTSTAMP:20260424T063712
CREATED:20200303T191259Z
LAST-MODIFIED:20200515T011253Z
UID:36899-1592524800-1592611199@dalmatianclubofamerica.org
SUMMARY:Mt Hood Dalmatian Club - Cancelled
DESCRIPTION:Morning and afternoon specialties. \nFollowed by two all-breed shows\, Saturday and Sunday.
URL:https://dalmatianclubofamerica.org/event/mt-hood-dalmatian-club/
LOCATION:Clackamas County Fairgrounds\, Canby\, OR
END:VEVENT
BEGIN:VEVENT
DTSTART;VALUE=DATE:20200606
DTEND;VALUE=DATE:20200607
DTSTAMP:20260424T063712
CREATED:20200303T190954Z
LAST-MODIFIED:20200323T010738Z
UID:36893-1591401600-1591487999@dalmatianclubofamerica.org
SUMMARY:Dalmatian Club of Northern California - Cancelled
DESCRIPTION:this event is cancelled. \n(was a supported entry at Woofstock).
URL:https://dalmatianclubofamerica.org/event/dalmatian-club-of-northern-california/
LOCATION:Vallejo\, CA
END:VEVENT
BEGIN:VEVENT
DTSTART;VALUE=DATE:20200605
DTEND;VALUE=DATE:20200607
DTSTAMP:20260424T063712
CREATED:20200303T190248Z
LAST-MODIFIED:20200515T011120Z
UID:36888-1591315200-1591487999@dalmatianclubofamerica.org
SUMMARY:Chicagoland Dalmatian Club - Cancelled
DESCRIPTION:Friday\, June 5\, 2020 – Show #1 \nJudges:\nBreed – Cathy Eke\nSweepstakes – Gail Passman \nFriday\, June 5\, 2020 – Show #2\nBreed – Mr. Robert D Ennis \nSaturday\, June 6\nDesignated Specialty at the Wheaton KC show. Judges TBA
URL:https://dalmatianclubofamerica.org/event/chicagoland-dalmatian-club/
LOCATION:DuPage County Fairgrounds\, 2015 West Manchester Rd\, Wheaton\, IL
END:VEVENT
BEGIN:VEVENT
DTSTART;VALUE=DATE:20200501
DTEND;VALUE=DATE:20200503
DTSTAMP:20260424T063712
CREATED:20200322T231836Z
LAST-MODIFIED:20200515T011537Z
UID:37299-1588291200-1588463999@dalmatianclubofamerica.org
SUMMARY:Dalmatian Club of America Road Trial - Cancelled
DESCRIPTION:Bristol\, Tennessee\nTrial Chair: Kathy Wosnak\nTrial Secretary: Lynn Luikart \nRoad Trial Judge – Sandra Lajoie \n***** \nFor more information on the road trial\, visit the DCA Events webpage
URL:https://dalmatianclubofamerica.org/event/dalmatian-club-of-america-road-trial/
LOCATION:Magna Vista Farms\, 585 Thomas Rd\, Bristol\, TN\, United States
CATEGORIES:National Specialty
END:VEVENT
BEGIN:VEVENT
DTSTART;TZID=America/New_York:20200328T080000
DTEND;TZID=America/New_York:20200328T170000
DTSTAMP:20260424T063712
CREATED:20191220T071008Z
LAST-MODIFIED:20200322T233911Z
UID:32518-1585382400-1585414800@dalmatianclubofamerica.org
SUMMARY:Dalmatian Organization of Tulsa - Cancelled
DESCRIPTION:This event is cancelled.
URL:https://dalmatianclubofamerica.org/event/dalmatian-organization-of-tulsa/
LOCATION:Claremore\, OK
END:VEVENT
BEGIN:VEVENT
DTSTART;TZID=America/New_York:20200327T080000
DTEND;TZID=America/New_York:20200328T170000
DTSTAMP:20260424T063712
CREATED:20191220T070430Z
LAST-MODIFIED:20200322T233953Z
UID:32511-1585296000-1585414800@dalmatianclubofamerica.org
SUMMARY:Dalmatian Club of Greater Atlanta - Cancelled
DESCRIPTION:The shows have been cancelled.
URL:https://dalmatianclubofamerica.org/event/dalmatian-club-of-greater-atlanta/
LOCATION:Lawrenceville\, GA
END:VEVENT
BEGIN:VEVENT
DTSTART;TZID=America/New_York:20200321T080000
DTEND;TZID=America/New_York:20200321T170000
DTSTAMP:20260424T063712
CREATED:20191012T191508Z
LAST-MODIFIED:20191220T070552Z
UID:27386-1584777600-1584810000@dalmatianclubofamerica.org
SUMMARY:Dalmatian Club of Central New Jersey
DESCRIPTION:Saturday\, March 21\, 2020\nDesignated Specialty Judge: Ann Katona\nIndependent Specialty Judge: Cindy Stansell
URL:https://dalmatianclubofamerica.org/event/dalmatian-club-of-central-new-jersey/
LOCATION:Edison\, NJ
END:VEVENT
BEGIN:VEVENT
DTSTART;TZID=America/New_York:20200320T080000
DTEND;TZID=America/New_York:20200321T170000
DTSTAMP:20260424T063712
CREATED:20191220T070214Z
LAST-MODIFIED:20191220T070214Z
UID:32506-1584691200-1584810000@dalmatianclubofamerica.org
SUMMARY:Central Carolina Dalmatian Club
DESCRIPTION:Two shows. \nFriday\, March 20 Judge – Molly Martin \nSaturday\, March 21 Judge – Meg Ispas-Hennessey
URL:https://dalmatianclubofamerica.org/event/central-carolina-dalmatian-club/
LOCATION:Raleigh\, NC
END:VEVENT
BEGIN:VEVENT
DTSTART;TZID=America/New_York:20200320T080000
DTEND;TZID=America/New_York:20200320T170000
DTSTAMP:20260424T063712
CREATED:20191220T065900Z
LAST-MODIFIED:20191220T065900Z
UID:32501-1584691200-1584723600@dalmatianclubofamerica.org
SUMMARY:Dalmatian Club of North Texas
DESCRIPTION:Two shows. \nAM Judge – Timothy Robbins \nPM Judge – Marjorie Anderson
URL:https://dalmatianclubofamerica.org/event/dalmatian-club-of-north-texas/
LOCATION:Fort Worth\, TX
END:VEVENT
BEGIN:VEVENT
DTSTART;TZID=America/New_York:20200229T080000
DTEND;TZID=America/New_York:20200301T170000
DTSTAMP:20260424T063712
CREATED:20191220T065627Z
LAST-MODIFIED:20191220T065627Z
UID:32496-1582963200-1583082000@dalmatianclubofamerica.org
SUMMARY:Dalmatian Organization of Houston
DESCRIPTION:Two shows. \nSaturday\, Feb 29 Judge – Kenneth A. Buxton \nSunday\, March 1 Judge – Donna Buxton
URL:https://dalmatianclubofamerica.org/event/dalmatian-organization-of-houston/
LOCATION:Humble\, TX
END:VEVENT
BEGIN:VEVENT
DTSTART;TZID=America/New_York:20200221T080000
DTEND;TZID=America/New_York:20200221T170000
DTSTAMP:20260424T063712
CREATED:20191023T010856Z
LAST-MODIFIED:20191023T010856Z
UID:28108-1582272000-1582304400@dalmatianclubofamerica.org
SUMMARY:Dalmatian Club of San Diego County
DESCRIPTION:Sweepstakes judge is Nancy Dandrea\nConformation judge is Carolyn Herbel \nLocation: Del Mar Fairgrounds\nDel Mar\, California
URL:https://dalmatianclubofamerica.org/event/dalmatian-club-of-san-diego-county/
LOCATION:Del Mar Fairgrounds\, Del Mar\, California
END:VEVENT
BEGIN:VEVENT
DTSTART;TZID=America/New_York:20200207T080000
DTEND;TZID=America/New_York:20200208T170000
DTSTAMP:20260424T063712
CREATED:20191220T065143Z
LAST-MODIFIED:20191220T065143Z
UID:32490-1581062400-1581181200@dalmatianclubofamerica.org
SUMMARY:Dalmatian Club of Greater Indianapolis
DESCRIPTION:Friday\, Feb. 7 Judge – Darryl Vice \nSaturday\, Feb. 8 Judge – Dana Cline
URL:https://dalmatianclubofamerica.org/event/dalmatian-club-of-greater-indianapolis/
LOCATION:Indianapolis\, IN
END:VEVENT
BEGIN:VEVENT
DTSTART;VALUE=DATE:20200201
DTEND;VALUE=DATE:20200202
DTSTAMP:20260424T063712
CREATED:20191204T192410Z
LAST-MODIFIED:20191204T192410Z
UID:31695-1580515200-1580601599@dalmatianclubofamerica.org
SUMMARY:Q1 DCA Board of Governors Meeting
DESCRIPTION:
URL:https://dalmatianclubofamerica.org/event/q1-dca-board-of-governors-meeting/
LOCATION:Holiday Inn & Suites\, Chicago O’Hare – Rosemont\, IL
END:VEVENT
BEGIN:VEVENT
DTSTART;TZID=America/New_York:20200130T080000
DTEND;TZID=America/New_York:20200130T170000
DTSTAMP:20260424T063712
CREATED:20191220T065251Z
LAST-MODIFIED:20191220T065251Z
UID:32486-1580371200-1580403600@dalmatianclubofamerica.org
SUMMARY:Dalmatian Club of Greater Phoenix
DESCRIPTION:Two shows. \nAM judge – Linn Klingle Brown \nPM judge – Kenneth H. Levison
URL:https://dalmatianclubofamerica.org/event/dalmatian-club-of-greater-phoenix/
LOCATION:Phoenix\, AZ
END:VEVENT
BEGIN:VEVENT
DTSTART;TZID=America/New_York:20200115T080000
DTEND;TZID=America/New_York:20200115T170000
DTSTAMP:20260424T063712
CREATED:20191220T064546Z
LAST-MODIFIED:20191220T064713Z
UID:32473-1579075200-1579107600@dalmatianclubofamerica.org
SUMMARY:Mt. Hood Dalmatian Club
DESCRIPTION:Two shows. \nAM Judge – Patti Widick Neale \nPM Judge – David Kittredge
URL:https://dalmatianclubofamerica.org/event/mt-hood-dalmatian-club-specialty/
LOCATION:Portland Expo Center\, Portland\, OR
END:VEVENT
BEGIN:VEVENT
DTSTART;TZID=America/New_York:20200110T080000
DTEND;TZID=America/New_York:20200110T170000
DTSTAMP:20260424T063712
CREATED:20191012T190718Z
LAST-MODIFIED:20191018T062215Z
UID:27382-1578643200-1578675600@dalmatianclubofamerica.org
SUMMARY:Puget Sound Dalmatian Club
DESCRIPTION:Friday\, Jan. 10\, 2020\nSweepstakes & Veteran Sweepstakes Judge:   Ms. Janet Warner\nConformation & Junior Showmanship Judge: Mr. Daniel J. Smyth Esq.\nEntries open Nov 1\, 2019\nClose Dec 25\, 2019 at noon \nThree days of All-Breed Shows\, January 11\, 12 & 13\, 2020 \nSUPTERINTENDENT:\nBaRay Event Services\, Inc.\nP.O. Box 508\nBurlington\, WA  98233\nDOGSHOW@BARAYEVENTS.COM\n360-755-7086
URL:https://dalmatianclubofamerica.org/event/puget-sound-dalmatian-club/
LOCATION:Western Washington Fairgrounds\, 110 9th Ave SW\, Puyallup\, WA
END:VEVENT
BEGIN:VEVENT
DTSTART;TZID=America/New_York:20191227T080000
DTEND;TZID=America/New_York:20191229T170000
DTSTAMP:20260424T063712
CREATED:20190823T212054Z
LAST-MODIFIED:20190823T212054Z
UID:21063-1577433600-1577638800@dalmatianclubofamerica.org
SUMMARY:Greater Pittsburgh Dalmatian Club Agility Trials
DESCRIPTION:Dec 27-28-29\, 2019 – *NEW* – GPDC AKC Agility Trials – being held at Countryside Agility\, Erie\, PA
URL:https://dalmatianclubofamerica.org/event/greater-pittsburgh-dalmatian-club-agility-trials/
LOCATION:Countryside Agility\, 2321 West 38th Street\, eire\, PA\, 16506\, United States
CATEGORIES:Agility Trial
END:VEVENT
BEGIN:VEVENT
DTSTART;TZID=America/New_York:20191207T080000
DTEND;TZID=America/New_York:20191208T170000
DTSTAMP:20260424T063712
CREATED:20191012T190108Z
LAST-MODIFIED:20191012T190108Z
UID:27373-1575705600-1575824400@dalmatianclubofamerica.org
SUMMARY:Delaware Valley Dalmatian Club
DESCRIPTION:Saturday\, Dec 7\, 2019\nConformation Judge: Ann Katona \nSunday\, December 8\, 2019\nConformation Judge: Dr. Joyce Dandridge
URL:https://dalmatianclubofamerica.org/event/delaware-valley-dalmatian-club/
LOCATION:Oaks\, PA\, Oaks\, PA
END:VEVENT
BEGIN:VEVENT
DTSTART;TZID=America/New_York:20191108T080000
DTEND;TZID=America/New_York:20191109T170000
DTSTAMP:20260424T063712
CREATED:20191023T013637Z
LAST-MODIFIED:20191023T013637Z
UID:28115-1573200000-1573318800@dalmatianclubofamerica.org
SUMMARY:Regional Road Trial
DESCRIPTION:JUDGE: Karen Bergman\, Colden\, NY \nLOCATION: Joker’s Wild Equestrian Center\,\n648 Pleasant Hill Rd.\nPort Crane\, NY \nENTRIES CLOSE WEDNESDAY NOON\, October 9\, 2019 or when the numerical limits have been reached\, if reached prior to this date at the Trial Secretary’s Office. \nLIMITED ENTRY: Entries will be limited to a maximum of 1 RDX teams\, 3 RD teams\, and 4 CC teams. The number of entries shall be limited according to Chapter 1\, Section 13 of the DCA Road Trial Rules & Regulations. Rental horses are limited to 4 and reservations will be taken on a first come\, first served basis. Entries will be accepted via mail only; no virtual payments are available. \nTRIAL HOURS 8:00 am to 5:00 pm\nTrial will be held rain or shine Judging will commence at 8:30 am\nSuitable for mounted riders only\nAt this trial\, portions of obedience may be held indoors. Endurance will be held outdoors. \nROAD TRIAL SECRETARY\nRobin Vermaat\n1001 Ballyhack Rd.\nPort Crane\, NY 13833\nphone: 607-644-4663\nemail: Rmarie@stny.rr.com (email contact preferred) \nNov 8 & 9 NY Road Trial Premium
URL:https://dalmatianclubofamerica.org/event/regional-road-trial/
LOCATION:Joker’s Wild EquestrianCenter\, 648 Pleasant Hill Rd\, Port Crane\, NY\, 13833
END:VEVENT
BEGIN:VEVENT
DTSTART;VALUE=DATE:20191025
DTEND;VALUE=DATE:20191027
DTSTAMP:20260424T063712
CREATED:20190823T212123Z
LAST-MODIFIED:20190823T212123Z
UID:21059-1571961600-1572134399@dalmatianclubofamerica.org
SUMMARY:Dalmatian Club of Northern California\, Inc.
DESCRIPTION:“BE SPOTTED” at the Dalmatian Club of Northern California\, Inc.\n82nd and 83rd Specialty Show\, Sweepstakes and Obedience Trial.\nAKC National Owner-Handler Series. \nLocation: Dixon May Fairgrounds\n655 South First Street\nDixon\, California 95630 \nIndependent Specialty Friday October 25\, 2019\njudges: Tim Robbins\, Conformation\, Jr’s and 4-6 month Beginner Puppy.\nStephen Cabral\, Puppy & Veteran Sweepstakes Classes & Pee Wee.\nObedience\, Margot McKereghan \nShow Secretary: Debi Best 510-915-0597 DLBest7@earthlink.net\nP.O.Box 478 Georgetown\, CA 956340-0478\nClosing Date October 9th. \nDesignated Specialty Saturday October 26th\nwith Sacramento Dog Fanciers Association\nJudges: Cindy Meyer\, Conformation\nLaura Carpenter\, Puppy and Veteran Sweepstakes\nObedience is offered. \nSupported Dalmatian Entry Sunday October 27th. \nSuperintendant: MB-F\, Inc \nPlease join us for our Annual Awards Banquet\nFriday evening at Buds Bar and Grill for our annual Awards Banquet in Downtown Dixon\, CA\nContact Judy Eyolfson at judyeyolfson@mac.com \n*Don’t forget to wear your favorite Polka Dots any color and hue on Friday and you will be entered into a drawing for a handmade quilt made by club member Kimberley Hess.
URL:https://dalmatianclubofamerica.org/event/dalmatian-club-of-northern-california-inc/
LOCATION:Dixon May Fairgrounds\, 655 South First Street\, Dixon\, CA\, 95630\, United States
CATEGORIES:Regional Specialty
END:VEVENT
BEGIN:VEVENT
DTSTART;VALUE=DATE:20191018
DTEND;VALUE=DATE:20191021
DTSTAMP:20260424T063712
CREATED:20190823T212149Z
LAST-MODIFIED:20190823T212149Z
UID:21047-1571356800-1571615999@dalmatianclubofamerica.org
SUMMARY:Greater Pittsburgh Dalmatian Club Coursing Ability Test (CAT)
DESCRIPTION:Greater Pittsburgh Dalmatian Club Coursing Ability Test (AKC CAT)\n2 days – 2 CAT Trials each day – 6 trials for the weekend\nOctober 18\, 19 and 20\, 2019! \nSHOW SITE: FISCHER’S PINE LAKE PARK\, 3796 MAPLE ROAD\, JEFFERSON\, OH 44047 (same place as our specialty) \nYou can find out more information on our website or to download premium and entry forms: www.PittsburghDalClub.com or our Facebook page: https://www.facebook.com/GreaterPittsburghDalmatianClub/
URL:https://dalmatianclubofamerica.org/event/greater-pittsburgh-dalmatian-club-coursing-ability-test-cat/
LOCATION:Fischers Pine Lake Park\, 400 Sawmill Creek Dr\, Jefferson\, OH\, 44839\, United States
CATEGORIES:Coursing Ability Test (CAT)
END:VEVENT
BEGIN:VEVENT
DTSTART;VALUE=DATE:20191011
DTEND;VALUE=DATE:20191012
DTSTAMP:20260424T063712
CREATED:20190823T212227Z
LAST-MODIFIED:20190823T212227Z
UID:21044-1570752000-1570838399@dalmatianclubofamerica.org
SUMMARY:Greater Washington Dalmatian Club
DESCRIPTION:Greater Washington Dalmatian Club invites you to join us for our 34th Specialty Show on October 11\, 2019\, Howard County Fairgrounds\, West Friendship\, MD Lots of fun!!! 4 chances for majors!!!! Raffles and Silent Auction!!! \nFriday\, October 11\, 2019 (Specialty)\nDiane Kepley – regular classes\nDorothy Anderson – puppy and veteran sweeps\nNo Junior Showmanship offered in 2019 \nFriday\, October 11\, 2019 (Supported Entry)\nCatonsville Friday – Joe Gregory \nSaturday\, October 12\, 2019 (Supported Entry)\nCatonsville Saturday – Stephanie Hedgepath \nSunday\, October 13\, 2019 (Supported Entry)\nNational Capital Sunday – Linda Lewin
URL:https://dalmatianclubofamerica.org/event/greater-washington-dalmatian-club/
LOCATION:Howard County Fairgrounds\, 2210 Fairgrounds Rd\, West Friendship\, MD\, 21794\, United States
CATEGORIES:Regional Specialty
END:VEVENT
BEGIN:VEVENT
DTSTART;VALUE=DATE:20190928
DTEND;VALUE=DATE:20190929
DTSTAMP:20260424T063712
CREATED:20190823T212417Z
LAST-MODIFIED:20190823T221555Z
UID:21042-1569628800-1569715199@dalmatianclubofamerica.org
SUMMARY:Dalmatian Club of Southern California (2)
DESCRIPTION:Dalmatian Club of Southern California\nDates: Independent Specialty-Friday September 27\, 2019 and Concurrent Specialty-Saturday September 28\, 2019\nNEW Venue: Industry Hills Expo Center\, 16200 Temple Avenue\, City of Industry\, CA 91744 in conjunction with Santa Ana Valley Kennel club. \nFriday 9/27/19 judges:\nSweeps: Barbara Barrett\nConformation/Jr Showmanship: Marcie Dobkin \nSaturday 9/28/19 judges:\nSweeps: Kevin O’Connell\nConformation/Jr Showmanship: Sue MacMillan \nDCSC will support Dalmatian entries with Santa Ana Valley Kennel Club who will host all breed shows at the same site\, Saturday\, September 28th and Sunday September 29th. \nStay to join us on the grounds Friday 9/27/19 for dinner! \nShow Secretary: Gordon Shows\, Gordon Show Secretary calendar of events \nThank you\,\nCecilia Forbes\,\nDalmatian Club of Southern California\nCorresponding Secretary
URL:https://dalmatianclubofamerica.org/event/dalmatian-club-of-southern-california-2/
LOCATION:Industry Hills Expo Center\, 16200 Temple Avenue\, City of Industry\, CA\, 91744\, United States
CATEGORIES:Regional Specialty
END:VEVENT
BEGIN:VEVENT
DTSTART;VALUE=DATE:20190928
DTEND;VALUE=DATE:20190929
DTSTAMP:20260424T063712
CREATED:20190823T212338Z
LAST-MODIFIED:20190823T212338Z
UID:21039-1569628800-1569715199@dalmatianclubofamerica.org
SUMMARY:Dalmatian Club of the Finger Lakes
DESCRIPTION:Dalmatian Club of the Finger Lakes\nDesignated Specialty\nWine Country Circuit\nLocation: Sampson State Park\, NY\nSuperintendent: Jim Rau Dog Shows\, Ltd.\nClosing Date: Wednesday\, September 11\, 2019\nConformation: Kristofer Kelso\nSweepstakes: Susan McCord \nBreed supported Thursday\, Friday and Sunday. Performance supported all four days of circuit. Superintendent Rau Dog Shows. \nThe premium list is now available for the Wine Country Circuit in Romulus NY\, including the Dalmatian Club of the Finger Lakes Annual Specialty. \nOur judges this year are Kris Kelso (breed) and Sue McCord (puppy and veteran sweeps). Supported entries the other three days of the circuit with judges Cindy Stansell\, Robin Stansell and Rita Walker. \nPlease plan to join us at this beautiful show site to win some great prizes and enjoy a picnic by the lake. \nIn addition to conformation\, Wine Country offers Rally\, Obedience and Agility as well as Coursing at the same site. All performance events are supported by DCFL. \nLink to premium: http://www.raudogshows.com/wp-content/uploads/2019/08/Wine-Country-2019-PL.pdf \nLook forward to seeing you! \nKaren Hopmans\nDCFL Specialty Committee \nKaren Hopmans\nDCFL Specialty Committee\nemail
URL:https://dalmatianclubofamerica.org/event/dalmatian-club-of-the-finger-lakes/
LOCATION:Sampson State Park\, 6040-6144 New York 96A\, Romulus\, NY\, 14541\, United States
CATEGORIES:Regional Specialty
END:VEVENT
BEGIN:VEVENT
DTSTART;VALUE=DATE:20190927
DTEND;VALUE=DATE:20190928
DTSTAMP:20260424T063712
CREATED:20190823T212542Z
LAST-MODIFIED:20190823T221527Z
UID:21031-1569542400-1569628799@dalmatianclubofamerica.org
SUMMARY:Dalmatian Club of Southern California Specialties (1 & 2)
DESCRIPTION:Dalmatian Club of Southern California\nDates: Independent Specialty-Friday September 27\, 2019 and Concurrent Specialty-Saturday September 28\, 2019\nNEW Venue: Industry Hills Expo Center\, 16200 Temple Avenue\, City of Industry\, CA 91744 in conjunction with Santa Ana Valley Kennel club. \nFriday 9/27/19 judges:\nSweeps: Barbara Barrett\nConformation/Jr Showmanship: Marcie Dobkin \nSaturday 9/28/19 judges:\nSweeps: Kevin O’Connell\nConformation/Jr Showmanship: Sue MacMillan \nDCSC will support Dalmatian entries with Santa Ana Valley Kennel Club who will host all breed shows at the same site\, Saturday\, September 28th and Sunday September 29th. \nStay to join us on the grounds Friday 9/27/19 for dinner! \nShow Secretary: Gordon Shows\, Gordon Show Secretary calendar of events \nThank you\,\nCecilia Forbes\,\nDalmatian Club of Southern California\nCorresponding Secretary
URL:https://dalmatianclubofamerica.org/event/dalmatian-club-of-southern-california-specialties-1-2/
LOCATION:Industry Hills Expo Center\, 16200 Temple Avenue\, City of Industry\, CA\, 91744\, United States
CATEGORIES:Regional Specialty
END:VEVENT
BEGIN:VEVENT
DTSTART;VALUE=DATE:20190913
DTEND;VALUE=DATE:20190915
DTSTAMP:20260424T063712
CREATED:20190823T212814Z
LAST-MODIFIED:20190823T212814Z
UID:21021-1568332800-1568505599@dalmatianclubofamerica.org
SUMMARY:Dalmatian Club of Greater St Louis
DESCRIPTION:It’s time to mark your calendars for the Dalmatian Club of Greater St. Louis Regional Specialty Shows at Purina Event Center in Gray Summit\, MO the weekend of September 13-15! Two regional specialties\, 2 all breed shows\, 1 Puppy and Veteran Sweepstakes\, and 4 Junior Showmanship competitions\, 4 NOHS competitions! \nLocation – Purina Event Center – Gray Summit\, MO\nSuperintendent – Foy Trent Dog Shows\nClosing Date – August 28\, 2019 – noon CST \nJudging Panel \nFriday\, 9/13 – Afternoon Stand Alone specialty and Sweepstakes\nLaura Carpenter for Puppy and Veteran Sweeps\nJohn Cramer for Junior Showmanship and Regular/Non-Regular Classes/NOHS \nSaturday\, 9/14 – Three Rivers KC AB Supported Entry and DCGSL Concurrent Specialty\nThree Rivers KC – Cindy Stansell – breed/NS group/Junior Showmanship/NOHS BIS;\nFred Bassett – BIS\nJohn Cramer – NOHS NS Group\nDCGSL Concurrent Specialty – Robin Stansell – Breed and Junior Showmanship \nSunday\, 9/15 – Three Rivers KC Supported Entry\nFred Bassett – breed/NS Group/Junior Showmanship; Robert Robinson – BIS;\nPeter Gaeta – NOHS NS Group\nRobin Stansell – NOHS BIS \nAnd the Cardinals are in town that weekend vs. Milwaukee! Home games Friday and Saturday night and Sunday afternoon!\nStay tuned for more information! We look forward to seeing you here in September!\nEvery day is a gift!\nToni Linstedt DCGSL Treasurer
URL:https://dalmatianclubofamerica.org/event/dalmatian-club-of-greater-st-louis/
LOCATION:Purina Event Center\, 500 William Danforth Way\, Gray Summitt\, MO\, 63039\, United States
CATEGORIES:Regional Specialty
END:VEVENT
BEGIN:VEVENT
DTSTART;VALUE=DATE:20190913
DTEND;VALUE=DATE:20190915
DTSTAMP:20260424T063712
CREATED:20190823T212459Z
LAST-MODIFIED:20190823T212459Z
UID:21026-1568332800-1568505599@dalmatianclubofamerica.org
SUMMARY:Dalmatian Club of Southern New England
DESCRIPTION:2019 Dalmatian Club of Southern New England\nCape Cod Fairgrounds\, E. Falmouth MA \nFriday September 13\, 2019 (designated Specialty)\nSouth Shore Kennel Club\nSweepstakes: Cindy Bowman\nConformation: Mrs. Susan Carr \nSaturday September 14\, 2019 (designated Specialty)\nSouth Shore Kennel Club\,\nSweepstakes: Mrs. Connie Brown\nConformation: Ms. Carrie Jordan \nSunday\, September 15\, 2019\nSupported Entry\nCape Cod Kennel Club\nConformation: Mr. Kristofer Kelso \nObedience/Rally for 4 days Nanci Hayes and Denise LaCroix
URL:https://dalmatianclubofamerica.org/event/dalmatian-club-of-southern-new-england/
LOCATION:Cape Cod Fairgrounds\, 1220 Nathan Ellis Hwy\, East Falmouth\, MA\, 02536\, United States
CATEGORIES:Regional Specialty
END:VEVENT
BEGIN:VEVENT
DTSTART;VALUE=DATE:20190830
DTEND;VALUE=DATE:20190901
DTSTAMP:20260424T063712
CREATED:20190823T213015Z
LAST-MODIFIED:20190823T213015Z
UID:21015-1567123200-1567295999@dalmatianclubofamerica.org
SUMMARY:Greater Twin Cities Dalmatian Club
DESCRIPTION:The Greater Twin Cities Dalmatian Club invites you to our specialty on August 30 and 31\, 2019. There will be 6 chances at majors over 4 days with 2 specialties and 4 all breed shows with supported entries. \nLocation: Amana RV Park\, Amana\, IA \nJudges:\nFriday Specialty – Linda Robey\nFriday All Breed – TBA\nSaturday Specialty – Joan Lester\nSaturday Sweepstakes/Veteran Sweepstakes – Samuel Kovitz\nSaturday All Breed – TBA\nSunday All Breed – TBA\nMonday All Breed – TBA \nSuperintendent: Onofrio\nClosing Date: Wednesday\, August 14\, 2019 \nDalmatians are shown in an air conditioned building. We have great prizes! There will be a potluck with a silent auction and raffle on Saturday. There are also 4 days of rally and obedience offered.
URL:https://dalmatianclubofamerica.org/event/greater-twin-cities-dalmatian-club/
LOCATION:Amana Colonies Convention Ctr & RV Park City\, 3890 C St\, Amana\, IA\, 52203\, United States
CATEGORIES:Regional Specialty
END:VEVENT
END:VCALENDAR