BEGIN:VCALENDAR
VERSION:2.0
PRODID:-//Dalmatian Club of America - ECPv6.15.20//NONSGML v1.0//EN
CALSCALE:GREGORIAN
METHOD:PUBLISH
X-WR-CALNAME:Dalmatian Club of America
X-ORIGINAL-URL:https://dalmatianclubofamerica.org
X-WR-CALDESC:Events for Dalmatian Club of America
REFRESH-INTERVAL;VALUE=DURATION:PT1H
X-Robots-Tag:noindex
X-PUBLISHED-TTL:PT1H
BEGIN:VTIMEZONE
TZID:America/New_York
BEGIN:DAYLIGHT
TZOFFSETFROM:-0500
TZOFFSETTO:-0400
TZNAME:EDT
DTSTART:20180311T070000
END:DAYLIGHT
BEGIN:STANDARD
TZOFFSETFROM:-0400
TZOFFSETTO:-0500
TZNAME:EST
DTSTART:20181104T060000
END:STANDARD
BEGIN:DAYLIGHT
TZOFFSETFROM:-0500
TZOFFSETTO:-0400
TZNAME:EDT
DTSTART:20190310T070000
END:DAYLIGHT
BEGIN:STANDARD
TZOFFSETFROM:-0400
TZOFFSETTO:-0500
TZNAME:EST
DTSTART:20191103T060000
END:STANDARD
BEGIN:DAYLIGHT
TZOFFSETFROM:-0500
TZOFFSETTO:-0400
TZNAME:EDT
DTSTART:20200308T070000
END:DAYLIGHT
BEGIN:STANDARD
TZOFFSETFROM:-0400
TZOFFSETTO:-0500
TZNAME:EST
DTSTART:20201101T060000
END:STANDARD
END:VTIMEZONE
BEGIN:VEVENT
DTSTART;VALUE=DATE:20190913
DTEND;VALUE=DATE:20190915
DTSTAMP:20260425T083959
CREATED:20190823T212459Z
LAST-MODIFIED:20190823T212459Z
UID:21026-1568332800-1568505599@dalmatianclubofamerica.org
SUMMARY:Dalmatian Club of Southern New England
DESCRIPTION:2019 Dalmatian Club of Southern New England\nCape Cod Fairgrounds\, E. Falmouth MA \nFriday September 13\, 2019 (designated Specialty)\nSouth Shore Kennel Club\nSweepstakes: Cindy Bowman\nConformation: Mrs. Susan Carr \nSaturday September 14\, 2019 (designated Specialty)\nSouth Shore Kennel Club\,\nSweepstakes: Mrs. Connie Brown\nConformation: Ms. Carrie Jordan \nSunday\, September 15\, 2019\nSupported Entry\nCape Cod Kennel Club\nConformation: Mr. Kristofer Kelso \nObedience/Rally for 4 days Nanci Hayes and Denise LaCroix
URL:https://dalmatianclubofamerica.org/event/dalmatian-club-of-southern-new-england/
LOCATION:Cape Cod Fairgrounds\, 1220 Nathan Ellis Hwy\, East Falmouth\, MA\, 02536\, United States
CATEGORIES:Regional Specialty
END:VEVENT
BEGIN:VEVENT
DTSTART;VALUE=DATE:20190830
DTEND;VALUE=DATE:20190901
DTSTAMP:20260425T083959
CREATED:20190823T213015Z
LAST-MODIFIED:20190823T213015Z
UID:21015-1567123200-1567295999@dalmatianclubofamerica.org
SUMMARY:Greater Twin Cities Dalmatian Club
DESCRIPTION:The Greater Twin Cities Dalmatian Club invites you to our specialty on August 30 and 31\, 2019. There will be 6 chances at majors over 4 days with 2 specialties and 4 all breed shows with supported entries. \nLocation: Amana RV Park\, Amana\, IA \nJudges:\nFriday Specialty – Linda Robey\nFriday All Breed – TBA\nSaturday Specialty – Joan Lester\nSaturday Sweepstakes/Veteran Sweepstakes – Samuel Kovitz\nSaturday All Breed – TBA\nSunday All Breed – TBA\nMonday All Breed – TBA \nSuperintendent: Onofrio\nClosing Date: Wednesday\, August 14\, 2019 \nDalmatians are shown in an air conditioned building. We have great prizes! There will be a potluck with a silent auction and raffle on Saturday. There are also 4 days of rally and obedience offered.
URL:https://dalmatianclubofamerica.org/event/greater-twin-cities-dalmatian-club/
LOCATION:Amana Colonies Convention Ctr & RV Park City\, 3890 C St\, Amana\, IA\, 52203\, United States
CATEGORIES:Regional Specialty
END:VEVENT
END:VCALENDAR