BEGIN:VCALENDAR
VERSION:2.0
PRODID:-//Dalmatian Club of America - ECPv6.15.20//NONSGML v1.0//EN
CALSCALE:GREGORIAN
METHOD:PUBLISH
X-ORIGINAL-URL:https://dalmatianclubofamerica.org
X-WR-CALDESC:Events for Dalmatian Club of America
REFRESH-INTERVAL;VALUE=DURATION:PT1H
X-Robots-Tag:noindex
X-PUBLISHED-TTL:PT1H
BEGIN:VTIMEZONE
TZID:America/Los_Angeles
BEGIN:DAYLIGHT
TZOFFSETFROM:-0800
TZOFFSETTO:-0700
TZNAME:PDT
DTSTART:20240310T100000
END:DAYLIGHT
BEGIN:STANDARD
TZOFFSETFROM:-0700
TZOFFSETTO:-0800
TZNAME:PST
DTSTART:20241103T090000
END:STANDARD
BEGIN:DAYLIGHT
TZOFFSETFROM:-0800
TZOFFSETTO:-0700
TZNAME:PDT
DTSTART:20250309T100000
END:DAYLIGHT
BEGIN:STANDARD
TZOFFSETFROM:-0700
TZOFFSETTO:-0800
TZNAME:PST
DTSTART:20251102T090000
END:STANDARD
BEGIN:DAYLIGHT
TZOFFSETFROM:-0800
TZOFFSETTO:-0700
TZNAME:PDT
DTSTART:20260308T100000
END:DAYLIGHT
BEGIN:STANDARD
TZOFFSETFROM:-0700
TZOFFSETTO:-0800
TZNAME:PST
DTSTART:20261101T090000
END:STANDARD
END:VTIMEZONE
BEGIN:VEVENT
DTSTART;TZID=America/Los_Angeles:20251107T080000
DTEND;TZID=America/Los_Angeles:20251107T170000
DTSTAMP:20260423T164738
CREATED:20250701T135154Z
LAST-MODIFIED:20250818T130526Z
UID:66307-1762502400-1762534800@dalmatianclubofamerica.org
SUMMARY:The Dals Down South Road Trial Cluster Day 1
DESCRIPTION:CERTIFIED JUDGE \n Amanda Jayne-Gill \nENTRIES CLOSE AT NOON on Friday\, October 10\, 2025 at the address of the Trial Secretary.\nNovember 7\, 2025 (Friday) and November 8\, 2025 (Saturday): Two separate Road Trials.\n•\nEntries will be accepted by mail with Check made out to Kathy Bertone. Check must be included with entry. Entries will not be considered confirmed without valid payment. $35 return check fee will be charged for any returned checks.\n•\nEntries limited to 5 carriage teams per day due to trail capacity. Entry limited to 4 RDX/RDXC teams per day (the RDXC would count towards the overall carriage limit) due to trail capacity. Total entries limited to 14 teams total per day due to day light hours. All entries will be processed on a first come\, first served basis according to when entries are received at the Secretary’s address. These limits apply for both Road Trials in this cluster.\n•\nHost Chair will make every effort to locate rental horses/carriages but all rental agreements will be made privately between exhibitors and rental vendors. Host chair cannot guarantee availability of rental horses or carriages.\n•\nEntries will be accepted via mail only; on-line payment is not available.\n•\nCLASSES OFFERED: RDX/RDXC\, RD/RDC\, CCI/CCIC\, CCN/CCNC\, CC/CCC\n•\nNon Regular Classes to be offered (all breed) for each class if entry limits do not fill with Dalmatians by the closing date. DCA does not offer titles or certificates to non-Dalmatians. Any awards or recognition to non-Dalmatians at these trials will be offered by Dals Down South\, and not by DCA. \nFor the premium click here
URL:https://dalmatianclubofamerica.org/event/the-dals-down-south-road-trial-cluster-day-1/
LOCATION:A.H. Stephens State Park\, 456 Alexander Street NW\, Crawfordville\, GA\, 30631
ORGANIZER;CN="Jamie Bertone":MAILTO:JamieBertoneATL@gmail.com
END:VEVENT
BEGIN:VEVENT
DTSTART;TZID=America/Los_Angeles:20251108T080000
DTEND;TZID=America/Los_Angeles:20251108T170000
DTSTAMP:20260423T164738
CREATED:20250701T135334Z
LAST-MODIFIED:20250818T130447Z
UID:66313-1762588800-1762621200@dalmatianclubofamerica.org
SUMMARY:The Dals Down South Road Trial Cluster Day 2
DESCRIPTION:CERTIFIED JUDGE \nDawn Eliot-Johnson \nENTRIES CLOSE AT NOON on Friday\, October 10\, 2025 at the address of the Trial Secretary.\nNovember 7\, 2025 (Friday) and November 8\, 2025 (Saturday): Two separate Road Trials.\n•\nEntries will be accepted by mail with Check made out to Kathy Bertone. Check must be included with entry. Entries will not be considered confirmed without valid payment. $35 return check fee will be charged for any returned checks.\n•\nEntries limited to 5 carriage teams per day due to trail capacity. Entry limited to 4 RDX/RDXC teams per day (the RDXC would count towards the overall carriage limit) due to trail capacity. Total entries limited to 14 teams total per day due to day light hours. All entries will be processed on a first come\, first served basis according to when entries are received at the Secretary’s address. These limits apply for both Road Trials in this cluster.\n•\nHost Chair will make every effort to locate rental horses/carriages but all rental agreements will be made privately between exhibitors and rental vendors. Host chair cannot guarantee availability of rental horses or carriages.\n•\nEntries will be accepted via mail only; on-line payment is not available.\n•\nCLASSES OFFERED: RDX/RDXC\, RD/RDC\, CCI/CCIC\, CCN/CCNC\, CC/CCC\n•\nNon Regular Classes to be offered (all breed) for each class if entry limits do not fill with Dalmatians by the closing date. DCA does not offer titles or certificates to non-Dalmatians. Any awards or recognition to non-Dalmatians at these trials will be offered by Dals Down South\, and not by DCA. \nFor the premium click here
URL:https://dalmatianclubofamerica.org/event/the-dals-down-south-road-trial-cluster-day-2/
LOCATION:A.H. Stephens State Park\, 456 Alexander Street NW\, Crawfordville\, GA\, 30631
ORGANIZER;CN="Jamie Bertone":MAILTO:JamieBertoneATL@gmail.com
END:VEVENT
END:VCALENDAR